BEGIN:VCALENDAR
VERSION:2.0
PRODID:-//Powerhouse Consulting Group - ECPv6.15.20//NONSGML v1.0//EN
CALSCALE:GREGORIAN
METHOD:PUBLISH
X-ORIGINAL-URL:https://mypowerhouse.group
X-WR-CALDESC:Events for Powerhouse Consulting Group
REFRESH-INTERVAL;VALUE=DURATION:PT1H
X-Robots-Tag:noindex
X-PUBLISHED-TTL:PT1H
BEGIN:VTIMEZONE
TZID:America/Chicago
BEGIN:DAYLIGHT
TZOFFSETFROM:-0600
TZOFFSETTO:-0500
TZNAME:CDT
DTSTART:20240310T080000
END:DAYLIGHT
BEGIN:STANDARD
TZOFFSETFROM:-0500
TZOFFSETTO:-0600
TZNAME:CST
DTSTART:20241103T070000
END:STANDARD
BEGIN:DAYLIGHT
TZOFFSETFROM:-0600
TZOFFSETTO:-0500
TZNAME:CDT
DTSTART:20250309T080000
END:DAYLIGHT
BEGIN:STANDARD
TZOFFSETFROM:-0500
TZOFFSETTO:-0600
TZNAME:CST
DTSTART:20251102T070000
END:STANDARD
BEGIN:DAYLIGHT
TZOFFSETFROM:-0600
TZOFFSETTO:-0500
TZNAME:CDT
DTSTART:20260308T080000
END:DAYLIGHT
BEGIN:STANDARD
TZOFFSETFROM:-0500
TZOFFSETTO:-0600
TZNAME:CST
DTSTART:20261101T070000
END:STANDARD
END:VTIMEZONE
BEGIN:VEVENT
DTSTART;TZID=America/Chicago:20250710T120000
DTEND;TZID=America/Chicago:20250710T133000
DTSTAMP:20260419T114658
CREATED:20250613T140811Z
LAST-MODIFIED:20250618T170929Z
UID:10000653-1752148800-1752154200@mypowerhouse.group
SUMMARY:Set Up Dynamic Pricing in ServiceTitan
DESCRIPTION:Take the guesswork out of pricing and empower your team with precision and consistency using ServiceTitan’s Dynamic Pricing. \nIn this Learning Lab\, we’ll walk you step-by-step through building a fully automated dynamic pricing structure that adapts to real-world conditions like job type\, time of service\, and material cost fluctuations. This session is ideal for anyone involved in Pricebook management\, financial planning\, or operations—and especially for those looking to save time while increasing pricing accuracy and profitability. \nWhether you’re just getting started or ready to fine-tune your setup\, this lab will show you how to maximize the flexibility and power of dynamic pricing within ServiceTitan. \n👥 Who Should Attend This Dynamic Pricing Training Lab\n🔧 Pricebook Managers / Administrators\n\nWhy: They are responsible for maintaining accurate cost data\, organizing categories\, and building the actual dynamic pricing rules.\nKey Takeaway: Learn how to structure the Pricebook and use the Dynamic Pricing Wizard effectively without creating rule conflicts or manual errors.\n\n💼 Operations Managers / GMs\n\nWhy: They oversee efficiency\, profitability\, and workflows across business units.\nKey Takeaway: Understand how dynamic pricing impacts margins\, labor recovery\, and business unit-specific strategies—and how to standardize pricing across trades.\n\n🧰 Service Managers / Field Supervisors\n\nWhy: They  guide technician performance\, job pricing in the field\, and customer presentation.\nKey Takeaway: Learn how to coach techs on presenting consistent\, confident pricing built on structured\, dynamic logic—no more ad hoc quoting.\n\n🧑‍💻 Technician Trainers / Sales Trainers\n\nWhy: They’re responsible for training field teams to use and trust the pricing structure.\nKey Takeaway: Walk away with the knowledge to build simple talking points around the logic of dynamic pricing and remove pricing guesswork for techs.\n\n🧾 CSRs / Dispatch Leads (Optional but Encouraged)\n\nWhy: While not responsible for pricing setup\, they often get early customer questions about pricing and quote expectations.\nKey Takeaway: A basic understanding of dynamic pricing helps them set better expectations and route jobs to the right techs and BUs.\n\n👥 Owners / Executives (If Involved in Pricing Strategy)\n\nWhy: If you’re making pricing decisions\, this session connects strategy to execution in ServiceTitan.\nKey Takeaway: Learn how to leverage the automation capabilities of the platform to protect margins\, standardize pricing\, and increase revenue.\n\n📋 Prerequisites/ Prep Work\n\nPrice Builder\nEssentials or The Works package\nRecommended set up:\n\nServices with sold hours\nMaterials or Equipment linked to Services (optional- use groups/ +sub-items)\nMaterials costs\nEquipment costs\n\n\n\n🔥 Topics Covered\nBase Rule Configuration\n\nCategories – Select which Pricebook categories are included in the pricing calculation.\nBillable Rate – Set your true hourly rate\, including technician wages\, overhead\, and cost of doing business.\nMarkups – Apply markups using various strategies (Gross Margin %\, % Markup\, $ Markup\, or Multiplier) for materials and equipment\, by individual or aggregated cost.\nSurcharges – Add additional costs such as taxes\, credit card fees\, or truck stock charges.\nBusiness Unit Variants – Customize pricing for different job types by overriding default billable rates\, markups\, or surcharges—without needing to create new rules.\n\nAdd-Ons: Configure pricing for multiple repairs on the same job to reflect bundled or scaled pricing logic. \n After-Hours Adjustments: Automatically adjust pricing for weekends\, holidays\, and on-call situations by increasing the billable rate or adding flat charges. \n Price Levels: Create pricing tiers based on difficulty\, customer type\, or membership level to reflect job complexity or value segmentation.\n \nRounding: Remove awkward cents from your pricing by rounding up or down for cleaner\, more customer-friendly pricing. \n🌟 Best Practices for Ensuring Effective Setup and Revenue Optimization \n\nKey strategies for setting up Dynamic Pricing \nTips to maximize revenue through proper setup\nReducing Mistakes: Common pitfalls and how to avoid them during the Dynamic Pricing setup process\nQ&A: Addressing frequently asked questions and troubleshooting common issues\n\nCost: \nThis session is $199 to attend\, with limited seating. Registration includes free access to our client-exclusive bonus pre-Pantheon session\, Boost Your Titan Score Before Pantheon!
URL:https://mypowerhouse.group/event/set-up-dynamic-pricing-in-servicetitan/
CATEGORIES:Virtual
ATTACH;FMTTYPE=image/png:https://mypowerhouse.group/wp-content/uploads/2025/06/Website-Header-Size-1600x900-2.png
END:VEVENT
BEGIN:VEVENT
DTSTART;TZID=America/Chicago:20250710T130000
DTEND;TZID=America/Chicago:20250710T140000
DTSTAMP:20260419T114658
CREATED:20250630T132644Z
LAST-MODIFIED:20250703T184046Z
UID:10000658-1752152400-1752156000@mypowerhouse.group
SUMMARY:ServiceTitan Inventory Office Hours
DESCRIPTION:Need help with ServiceTitan Inventory? Connect with an Inventory Specialist from Powerhouse Consulting Group at no cost during our Inventory Office Hours. \n\nProven expertise in implementing inventory solutions for numerous clients.\nCertified Inventory specialists through the prestigious ServiceTitan Certified Provider program.\nSmall group and live interaction\, to answer YOUR specific questions.\n\nJoin now: REGISTER
URL:https://mypowerhouse.group/event/inventory-office-hours-2/2025-07-10/
CATEGORIES:Virtual
ATTACH;FMTTYPE=image/jpeg:https://mypowerhouse.group/wp-content/uploads/2024/03/Inventory-Office-Hours-For-Website.jpg
END:VEVENT
END:VCALENDAR