BEGIN:VCALENDAR
VERSION:2.0
PRODID:-//Powerhouse Consulting Group - ECPv6.15.20//NONSGML v1.0//EN
CALSCALE:GREGORIAN
METHOD:PUBLISH
X-WR-CALNAME:Powerhouse Consulting Group
X-ORIGINAL-URL:https://mypowerhouse.group
X-WR-CALDESC:Events for Powerhouse Consulting Group
REFRESH-INTERVAL;VALUE=DURATION:PT1H
X-Robots-Tag:noindex
X-PUBLISHED-TTL:PT1H
BEGIN:VTIMEZONE
TZID:America/Chicago
BEGIN:DAYLIGHT
TZOFFSETFROM:-0600
TZOFFSETTO:-0500
TZNAME:CDT
DTSTART:20240310T080000
END:DAYLIGHT
BEGIN:STANDARD
TZOFFSETFROM:-0500
TZOFFSETTO:-0600
TZNAME:CST
DTSTART:20241103T070000
END:STANDARD
BEGIN:DAYLIGHT
TZOFFSETFROM:-0600
TZOFFSETTO:-0500
TZNAME:CDT
DTSTART:20250309T080000
END:DAYLIGHT
BEGIN:STANDARD
TZOFFSETFROM:-0500
TZOFFSETTO:-0600
TZNAME:CST
DTSTART:20251102T070000
END:STANDARD
BEGIN:DAYLIGHT
TZOFFSETFROM:-0600
TZOFFSETTO:-0500
TZNAME:CDT
DTSTART:20260308T080000
END:DAYLIGHT
BEGIN:STANDARD
TZOFFSETFROM:-0500
TZOFFSETTO:-0600
TZNAME:CST
DTSTART:20261101T070000
END:STANDARD
END:VTIMEZONE
BEGIN:VEVENT
DTSTART;TZID=America/Chicago:20250724T130000
DTEND;TZID=America/Chicago:20250724T140000
DTSTAMP:20260419T101426
CREATED:20250515T183253Z
LAST-MODIFIED:20250924T143234Z
UID:10000663-1753362000-1753365600@mypowerhouse.group
SUMMARY:ServiceTitan Inventory Office Hours
DESCRIPTION:Need help with ServiceTitan Inventory? Connect with an Inventory Specialist from Powerhouse Consulting Group at no cost during our Inventory Office Hours. \n\nProven expertise in implementing inventory solutions for numerous clients.\nCertified Inventory specialists through the prestigious ServiceTitan Certified Provider program.\nSmall group and live interaction\, to answer YOUR specific questions.\n\nJoin now: REGISTER
URL:https://mypowerhouse.group/event/inventory-office-hours/2025-07-24/
CATEGORIES:Virtual
ATTACH;FMTTYPE=image/jpeg:https://mypowerhouse.group/wp-content/uploads/2024/03/Inventory-Office-Hours-For-Website.jpg
END:VEVENT
BEGIN:VEVENT
DTSTART;TZID=America/Chicago:20250724T130000
DTEND;TZID=America/Chicago:20250724T140000
DTSTAMP:20260419T101426
CREATED:20250630T132644Z
LAST-MODIFIED:20250703T184046Z
UID:10000668-1753362000-1753365600@mypowerhouse.group
SUMMARY:ServiceTitan Inventory Office Hours
DESCRIPTION:Need help with ServiceTitan Inventory? Connect with an Inventory Specialist from Powerhouse Consulting Group at no cost during our Inventory Office Hours. \n\nProven expertise in implementing inventory solutions for numerous clients.\nCertified Inventory specialists through the prestigious ServiceTitan Certified Provider program.\nSmall group and live interaction\, to answer YOUR specific questions.\n\nJoin now: REGISTER
URL:https://mypowerhouse.group/event/inventory-office-hours-2/2025-07-24/
CATEGORIES:Virtual
ATTACH;FMTTYPE=image/jpeg:https://mypowerhouse.group/wp-content/uploads/2024/03/Inventory-Office-Hours-For-Website.jpg
END:VEVENT
END:VCALENDAR