BEGIN:VCALENDAR
VERSION:2.0
PRODID:-//Powerhouse Consulting Group - ECPv6.15.20//NONSGML v1.0//EN
CALSCALE:GREGORIAN
METHOD:PUBLISH
X-ORIGINAL-URL:https://mypowerhouse.group
X-WR-CALDESC:Events for Powerhouse Consulting Group
REFRESH-INTERVAL;VALUE=DURATION:PT1H
X-Robots-Tag:noindex
X-PUBLISHED-TTL:PT1H
BEGIN:VTIMEZONE
TZID:America/Chicago
BEGIN:DAYLIGHT
TZOFFSETFROM:-0600
TZOFFSETTO:-0500
TZNAME:CDT
DTSTART:20240310T080000
END:DAYLIGHT
BEGIN:STANDARD
TZOFFSETFROM:-0500
TZOFFSETTO:-0600
TZNAME:CST
DTSTART:20241103T070000
END:STANDARD
BEGIN:DAYLIGHT
TZOFFSETFROM:-0600
TZOFFSETTO:-0500
TZNAME:CDT
DTSTART:20250309T080000
END:DAYLIGHT
BEGIN:STANDARD
TZOFFSETFROM:-0500
TZOFFSETTO:-0600
TZNAME:CST
DTSTART:20251102T070000
END:STANDARD
BEGIN:DAYLIGHT
TZOFFSETFROM:-0600
TZOFFSETTO:-0500
TZNAME:CDT
DTSTART:20260308T080000
END:DAYLIGHT
BEGIN:STANDARD
TZOFFSETFROM:-0500
TZOFFSETTO:-0600
TZNAME:CST
DTSTART:20261101T070000
END:STANDARD
END:VTIMEZONE
BEGIN:VEVENT
DTSTART;TZID=America/Chicago:20251119T120000
DTEND;TZID=America/Chicago:20251119T130000
DTSTAMP:20260419T165517
CREATED:20250924T140834Z
LAST-MODIFIED:20251105T153517Z
UID:10000679-1763553600-1763557200@mypowerhouse.group
SUMMARY:Webinar: Smart\, Not Shiny: Building a Tech Stack with Purpose
DESCRIPTION:Free Webinar: Smart\, Not Shiny: Building a Tech Stack with Purpose\nWednesday\, November 19 | 12pm CT \nIn today’s trades industry\, contractors are bombarded with opinions\, “must-have” apps\, and shiny new tools promising to fix every problem. \nBut more isn’t always better—and following the crowd often leads to wasted spend\, operational drag\, and unnecessary complexity. In this session\, Leila Rookstool of Powerhouse Consulting Group will show you how to take a smarter approach to technology inspired by our Contractor Resource Planning (CRP) framework. \nYou’ll learn how to evaluate integrations and automations with a critical lens\, align your tech decisions with your team’s actual capabilities and goals\, and avoid the trap of buying tools that don’t deliver ROI. We’ll also cover how to build confidence in your systems\, coach your team through the noise of outside chatter\, and use data—not hype—to guide your growth. \nThis session is designed for business leaders who are ready to stop reacting to industry buzz and start building a tech stack that truly supports long-term success. \n👉 Register today! https://mypowerhouse-group.zoom.us/webinar/register/WN_hFRspSzyTmKSYxhmTfKZMg
URL:https://mypowerhouse.group/event/webinar-smart-not-shiny-building-a-tech-stack-with-purpose/
CATEGORIES:Virtual
ATTACH;FMTTYPE=image/png:https://mypowerhouse.group/wp-content/uploads/2025/09/Building-a-Tech-Stack-with-Purpose-14.png
END:VEVENT
END:VCALENDAR