BEGIN:VCALENDAR
VERSION:2.0
PRODID:-//Powerhouse Consulting Group - ECPv6.15.20//NONSGML v1.0//EN
CALSCALE:GREGORIAN
METHOD:PUBLISH
X-WR-CALNAME:Powerhouse Consulting Group
X-ORIGINAL-URL:https://mypowerhouse.group
X-WR-CALDESC:Events for Powerhouse Consulting Group
REFRESH-INTERVAL;VALUE=DURATION:PT1H
X-Robots-Tag:noindex
X-PUBLISHED-TTL:PT1H
BEGIN:VTIMEZONE
TZID:America/Chicago
BEGIN:DAYLIGHT
TZOFFSETFROM:-0600
TZOFFSETTO:-0500
TZNAME:CDT
DTSTART:20240310T080000
END:DAYLIGHT
BEGIN:STANDARD
TZOFFSETFROM:-0500
TZOFFSETTO:-0600
TZNAME:CST
DTSTART:20241103T070000
END:STANDARD
BEGIN:DAYLIGHT
TZOFFSETFROM:-0600
TZOFFSETTO:-0500
TZNAME:CDT
DTSTART:20250309T080000
END:DAYLIGHT
BEGIN:STANDARD
TZOFFSETFROM:-0500
TZOFFSETTO:-0600
TZNAME:CST
DTSTART:20251102T070000
END:STANDARD
BEGIN:DAYLIGHT
TZOFFSETFROM:-0600
TZOFFSETTO:-0500
TZNAME:CDT
DTSTART:20260308T080000
END:DAYLIGHT
BEGIN:STANDARD
TZOFFSETFROM:-0500
TZOFFSETTO:-0600
TZNAME:CST
DTSTART:20261101T070000
END:STANDARD
END:VTIMEZONE
BEGIN:VEVENT
DTSTART;VALUE=DATE:20250930
DTEND;VALUE=DATE:20251002
DTSTAMP:20260419T133138
CREATED:20250821T135729Z
LAST-MODIFIED:20250929T190929Z
UID:10000670-1759190400-1759363199@mypowerhouse.group
SUMMARY:Super Meeting 2025
DESCRIPTION:Powerhouse Consulting Group is proud to be a sponsor of Nexstar’s 2025 Super Meeting!\nPCG is thrilled to see Nexstar members at this year’s Super Meeting in Aurora\, Colorado\, September 30-October 1. \nTailgate Party – Monday Night Football\nBe sure to chat with a PCG team member to earn a prize drawing entry at the Tailgate Party on Monday from 6-9pm at Mountain Pass! Prizes include autographed football collectibles\, and a surprise grand prize. \nPCG Power Session\nTuesday\, September 30\, 11am – Presented by Rosario Garcia \nPowerhouse Your Profits: Unlock the Goldmine in Your CRM – Rosario will deep dive on the Follow Up Tab to help you stay ahead of estimates\, memberships\, leads\, recurring services\, expiring cards\, and more! \nVisit Our Booth\nThe PCG team will be on-site in the Expo Hall with swag\, exclusive offers\, and conversation about helping you maximize the power of ServiceTitan and your tech stack. Stop by booth #508\, and remember to bring your completed worksheet for a free consultation!
URL:https://mypowerhouse.group/event/super-meeting-2025/
LOCATION:Gaylord Rockies Resort & Convention Center\, 3700 North Gaylord Rockies Boulevard\, Aurora\, CO\, 80019\, United States
CATEGORIES:In-Person
ATTACH;FMTTYPE=image/png:https://mypowerhouse.group/wp-content/uploads/2025/08/Website-Header-Size-1600x900-8.png
END:VEVENT
BEGIN:VEVENT
DTSTART;TZID=America/Chicago:20251002T130000
DTEND;TZID=America/Chicago:20251002T140000
DTSTAMP:20260419T133138
CREATED:20250307T194400Z
LAST-MODIFIED:20251021T142912Z
UID:10000673-1759410000-1759413600@mypowerhouse.group
SUMMARY:ServiceTitan Marketing Office Hours
DESCRIPTION:Need help with ServiceTitan Marketing modules – core or Marketing Pro? Connect with an Marketing Specialist from Powerhouse Consulting Group at no cost during our Marketing Office Hours. \n\nProven expertise in implementing marketing solutions for numerous clients.\nCertified Marketing specialists through the prestigious ServiceTitan Certified Provider program.\nSmall group and live interaction\, to answer YOUR specific questions.\n\nJoin now: REGISTER
URL:https://mypowerhouse.group/event/servicetitan-marketing-office-hours-2025/2025-10-02/
CATEGORIES:Virtual
ATTACH;FMTTYPE=image/png:https://mypowerhouse.group/wp-content/uploads/2025/03/Marketing-Office-Hours-v1-1.png
END:VEVENT
BEGIN:VEVENT
DTSTART;VALUE=DATE:20251003
DTEND;VALUE=DATE:20251006
DTSTAMP:20260419T133138
CREATED:20250926T145027Z
LAST-MODIFIED:20250926T145027Z
UID:10000682-1759449600-1759708799@mypowerhouse.group
SUMMARY:TAP Into the Future 2025
DESCRIPTION:Powerhouse is proud to sponsor TAP Into the Future 2025 in Savannah\, GA! \nJoin us for this live\, high-impact event that brings together forward-thinking leaders for practical AI tools\, automation systems\, and proven processes designed to transform service businesses. Be sure to stop and chat with Pam in the expo! \nLearn more about TAP Into the Future HERE
URL:https://mypowerhouse.group/event/tap-into-the-future-2025/
LOCATION:The DeSoto\, 15 E Liberty\, Savannah\, GA\, 31401\, United States
CATEGORIES:In-Person
ATTACH;FMTTYPE=image/png:https://mypowerhouse.group/wp-content/uploads/2025/09/Website-Header-Size-1600x900-23.png
END:VEVENT
BEGIN:VEVENT
DTSTART;VALUE=DATE:20251006
DTEND;VALUE=DATE:20251009
DTSTAMP:20260419T133139
CREATED:20250821T145944Z
LAST-MODIFIED:20251001T190759Z
UID:10000671-1759708800-1759967999@mypowerhouse.group
SUMMARY:Women in HVACR Conference 2025
DESCRIPTION:Powerhouse Consulting Group is a proud sponsor of Women in HVACR\, and will be at the 22nd annual conference\, Bet On Yourself\, in Las Vegas\, NV\, Oct. 6-8\, 2025! \nBe sure to stop by booth 305 in the expo hall and chat with Pam! She will also be leading the service providers peer group breakfast on Wednesday!
URL:https://mypowerhouse.group/event/women-in-hvacr-conference-2025/
LOCATION:Red Rock Resort\, 11011 W Charleston Blvd\, Las Vegas\, NV\, 89135\, United States
ATTACH;FMTTYPE=image/png:https://mypowerhouse.group/wp-content/uploads/2025/08/Website-Header-Size-1600x900-13.png
END:VEVENT
BEGIN:VEVENT
DTSTART;TZID=America/Chicago:20251009T130000
DTEND;TZID=America/Chicago:20251009T140000
DTSTAMP:20260419T133139
CREATED:20250515T183253Z
LAST-MODIFIED:20250924T143234Z
UID:10000681-1760014800-1760018400@mypowerhouse.group
SUMMARY:ServiceTitan Inventory Office Hours
DESCRIPTION:Need help with ServiceTitan Inventory? Connect with an Inventory Specialist from Powerhouse Consulting Group at no cost during our Inventory Office Hours. \n\nProven expertise in implementing inventory solutions for numerous clients.\nCertified Inventory specialists through the prestigious ServiceTitan Certified Provider program.\nSmall group and live interaction\, to answer YOUR specific questions.\n\nJoin now: REGISTER
URL:https://mypowerhouse.group/event/inventory-office-hours/2025-10-09/
CATEGORIES:Virtual
ATTACH;FMTTYPE=image/jpeg:https://mypowerhouse.group/wp-content/uploads/2024/03/Inventory-Office-Hours-For-Website.jpg
END:VEVENT
BEGIN:VEVENT
DTSTART;TZID=America/Chicago:20251014T130000
DTEND;TZID=America/Chicago:20251014T133000
DTSTAMP:20260419T133139
CREATED:20250910T185620Z
LAST-MODIFIED:20251007T181419Z
UID:10000676-1760446800-1760448600@mypowerhouse.group
SUMMARY:Learning Lab: Jobs & Dispatch in ServiceTitan: Tighten the Queue
DESCRIPTION:Tighten the Queue: Jobs & Dispatch\n📅 October 14\, 2025 \nClose the loops. Clear the clutter. Finish strong.This hands-on learning lab is your deep clean for Jobs & Dispatch in ServiceTitan. We’ll show your team how to find and fix what’s stuck—from open jobs and unsold estimates to messy recurring events—so you roll into year‑end with clean workflows\, accurate data\, and a dispatch board that actually drives revenue. \nWho should attend\nDispatchers • CSRs • Service Managers • Ops Leaders • ServiceTitan Admins \nWhat you’ll learn\n\nUnstick lingering work: Identify and resolve jobs in limbo\, callbacks\, and “nearly done” tickets.\nClose revenue gaps: Surface and follow up on unsold estimates and stalled opportunities.\nClean recurring events: Normalize frequencies\, fix scheduling drift\, and prevent duplicates.\nTighten job status flow: Standardize statuses\, tags\, alerts\, and technician notes for consistency.\nDeclutter the board: Create saved views\, filters\, and capacity rules that keep the day moving.\nFocus on the right KPIs: Job completion rate\, reschedule rate\, same‑day booking %\, and estimate follow‑through.\n\nYou’ll leave with\n\nA plug‑and‑play Year‑End Jobs & Dispatch Checklist\nReady‑to‑use saved views/filters and bulk‑action steps for cleanup\nA simple follow‑up cadence for estimates and recurring services\nA tighter\, clearer dispatch workflow your whole team can stick to\n\n\nPowerhouse Consulting Group is your ServiceTitan expert. We help teams untangle digital messes\, master their software\, and build smarter workflows that actually work. If you’re ready to make your software make sense\, this series is the perfect place to start. \nClass size is limited to ensure you get the individualized ServiceTitan help you need in your live account. Register today! \nCost: $199\, or register for the three-session series for $398!
URL:https://mypowerhouse.group/event/learning-lab-jobs-dispatch/
CATEGORIES:Virtual
ATTACH;FMTTYPE=image/png:https://mypowerhouse.group/wp-content/uploads/2025/09/Website-Header-Size-1600x900-20.png
END:VEVENT
BEGIN:VEVENT
DTSTART;TZID=America/Chicago:20251023T130000
DTEND;TZID=America/Chicago:20251023T140000
DTSTAMP:20260419T133139
CREATED:20251003T132822Z
LAST-MODIFIED:20251118T133435Z
UID:10000651-1761224400-1761228000@mypowerhouse.group
SUMMARY:ServiceTitan Inventory Office Hours
DESCRIPTION:Need help with ServiceTitan Inventory? Connect with an Inventory Specialist from Powerhouse Consulting Group at no cost during our Inventory Office Hours. \n\nProven expertise in implementing inventory solutions for numerous clients.\nCertified Inventory specialists through the prestigious ServiceTitan Certified Provider program.\nSmall group and live interaction\, to answer YOUR specific questions.\n\nJoin now: REGISTER
URL:https://mypowerhouse.group/event/inventory-office-hours-2-2/2025-10-23/
CATEGORIES:Virtual
ATTACH;FMTTYPE=image/jpeg:https://mypowerhouse.group/wp-content/uploads/2024/03/Inventory-Office-Hours-For-Website.jpg
END:VEVENT
BEGIN:VEVENT
DTSTART;VALUE=DATE:20251027
DTEND;VALUE=DATE:20251030
DTSTAMP:20260419T133139
CREATED:20250926T162150Z
LAST-MODIFIED:20251010T125401Z
UID:10000683-1761523200-1761782399@mypowerhouse.group
SUMMARY:PHCC Connect
DESCRIPTION:Powerhouse is thrilled to participate in PHCC Connect 2025 in Grand Rapids\, Michigan\, October 27-30! \nFind us in the Expo Hall in booth 605. \n🎤 Don’t miss Powerhouse on stage: Wednesday\, Oct. 29 @ 3:30 PM\n💡 “11 ServiceTitan Features You Didn’t Know Existed (But Totally Should)”\nGet ready to unlock the tools hiding in plain sight — and walk away with real-time wins you can use the minute you’re back in the office\, presented by Amanda and Kris. \nSee the full agenda HERE \nRead more about Connect HERE
URL:https://mypowerhouse.group/event/phcc-connect/
LOCATION:DeVos Place\, 303 Monroe Ave NW\, Grand Rapids\, MI\, 49503\, United States
ATTACH;FMTTYPE=image/png:https://mypowerhouse.group/wp-content/uploads/2025/09/Website-Header-Size-1600x900-25.png
END:VEVENT
END:VCALENDAR