BEGIN:VCALENDAR
VERSION:2.0
PRODID:-//Powerhouse Consulting Group - ECPv6.15.20//NONSGML v1.0//EN
CALSCALE:GREGORIAN
METHOD:PUBLISH
X-WR-CALNAME:Powerhouse Consulting Group
X-ORIGINAL-URL:https://mypowerhouse.group
X-WR-CALDESC:Events for Powerhouse Consulting Group
REFRESH-INTERVAL;VALUE=DURATION:PT1H
X-Robots-Tag:noindex
X-PUBLISHED-TTL:PT1H
BEGIN:VTIMEZONE
TZID:America/Chicago
BEGIN:DAYLIGHT
TZOFFSETFROM:-0600
TZOFFSETTO:-0500
TZNAME:CDT
DTSTART:20240310T080000
END:DAYLIGHT
BEGIN:STANDARD
TZOFFSETFROM:-0500
TZOFFSETTO:-0600
TZNAME:CST
DTSTART:20241103T070000
END:STANDARD
BEGIN:DAYLIGHT
TZOFFSETFROM:-0600
TZOFFSETTO:-0500
TZNAME:CDT
DTSTART:20250309T080000
END:DAYLIGHT
BEGIN:STANDARD
TZOFFSETFROM:-0500
TZOFFSETTO:-0600
TZNAME:CST
DTSTART:20251102T070000
END:STANDARD
BEGIN:DAYLIGHT
TZOFFSETFROM:-0600
TZOFFSETTO:-0500
TZNAME:CDT
DTSTART:20260308T080000
END:DAYLIGHT
BEGIN:STANDARD
TZOFFSETFROM:-0500
TZOFFSETTO:-0600
TZNAME:CST
DTSTART:20261101T070000
END:STANDARD
END:VTIMEZONE
BEGIN:VEVENT
DTSTART;TZID=America/Chicago:20251106T130000
DTEND;TZID=America/Chicago:20251106T140000
DTSTAMP:20260419T151955
CREATED:20250307T194400Z
LAST-MODIFIED:20251021T142912Z
UID:10000686-1762434000-1762437600@mypowerhouse.group
SUMMARY:ServiceTitan Marketing Office Hours
DESCRIPTION:Need help with ServiceTitan Marketing modules – core or Marketing Pro? Connect with an Marketing Specialist from Powerhouse Consulting Group at no cost during our Marketing Office Hours. \n\nProven expertise in implementing marketing solutions for numerous clients.\nCertified Marketing specialists through the prestigious ServiceTitan Certified Provider program.\nSmall group and live interaction\, to answer YOUR specific questions.\n\nJoin now: REGISTER
URL:https://mypowerhouse.group/event/servicetitan-marketing-office-hours-2025/2025-11-06/
CATEGORIES:Virtual
ATTACH;FMTTYPE=image/png:https://mypowerhouse.group/wp-content/uploads/2025/03/Marketing-Office-Hours-v1-1.png
END:VEVENT
BEGIN:VEVENT
DTSTART;TZID=America/Chicago:20251111T120000
DTEND;TZID=America/Chicago:20251111T133000
DTSTAMP:20260419T151955
CREATED:20250910T185454Z
LAST-MODIFIED:20251106T184835Z
UID:10000677-1762862400-1762867800@mypowerhouse.group
SUMMARY:SOLD OUT - Learning Lab: Accounting in ServiceTitan: Close the Books with Confidence
DESCRIPTION:**This session is at capacity** \nAccounting: Close the Books with Confidence\n🗓️ November 11\, 2025  \nFinalize your financials. Clean up your books. Start 2026 with confidence.This learning lab equips your team to close out accounting in ServiceTitan the right way. From AR/AP to deferred revenue and membership billing\, we’ll walk through the full year-end accounting workflow so nothing is left in limbo. Whether you’re cleaning up credits or reconciling inventory\, this session is packed with hands-on tips to leave your team organized\, accurate\, and audit-ready. \n\n👥 Who Should Attend\nAccounting & Finance • Office Managers • CSRs • Dispatchers • Inventory Managers • Service Managers \n\n🔍 What You’ll Learn\nAccounts Receivable & Period Management \n\nReconcile deposits and apply credits using the Transaction Hub\nProperly close accounting periods and keep AR accurate\nSet alerts for failed invoices and unclaimed credits\n\nExporting & Batching \n\nUse TSYS auto batching for fast\, clean reconciliation\nExport verified transactions and keep your GL aligned\nBuild batching routines that eliminate errors and delays\n\nMemberships & Deferred Revenue \n\nProcess all outstanding invoices and suspend memberships where needed\nReview historical billing and clean up recurring events\nProperly dismiss RSEs to track deferred revenue accurately\n\nAccounts Payable & Inventory \n\nReceive and reconcile purchase orders and credit memos\nManage replenishment and returns to avoid AP discrepancies\n\nCleanup & Best Practices \n\nImplement a daily\, weekly\, and monthly cleanup routine\nPrevent errors\, resolve unfinished tasks\, and align financials before year-end\nCollaborate across teams to ensure nothing falls through the cracks\n\n\n🏆 You’ll Walk Away With\n\nA ready-to-use Year-End Accounting Checklist\nBest practices to streamline financial processes across teams\nConfidence that your ServiceTitan data is clean\, accurate\, and ready for 2026\n\n\nPowerhouse Consulting Group is your ServiceTitan expert. We help teams untangle digital messes\, master their software\, and build smarter workflows that actually work. If you’re ready to make your software make sense\, this series is the perfect place to start. \nClass size is limited to ensure you get the individualized ServiceTitan help you need in your live account. Register today – very limited seats remain! \nCost: $199
URL:https://mypowerhouse.group/event/learning-lab-accounting-servicetitan/
CATEGORIES:Virtual
ATTACH;FMTTYPE=image/png:https://mypowerhouse.group/wp-content/uploads/2025/09/Website-Header-Size-1600x900-21.png
END:VEVENT
BEGIN:VEVENT
DTSTART;TZID=America/Chicago:20251113T130000
DTEND;TZID=America/Chicago:20251113T140000
DTSTAMP:20260419T151955
CREATED:20251003T132822Z
LAST-MODIFIED:20251118T133435Z
UID:10000684-1763038800-1763042400@mypowerhouse.group
SUMMARY:ServiceTitan Inventory Office Hours
DESCRIPTION:Need help with ServiceTitan Inventory? Connect with an Inventory Specialist from Powerhouse Consulting Group at no cost during our Inventory Office Hours. \n\nProven expertise in implementing inventory solutions for numerous clients.\nCertified Inventory specialists through the prestigious ServiceTitan Certified Provider program.\nSmall group and live interaction\, to answer YOUR specific questions.\n\nJoin now: REGISTER
URL:https://mypowerhouse.group/event/inventory-office-hours-2-2/2025-11-13/
CATEGORIES:Virtual
ATTACH;FMTTYPE=image/jpeg:https://mypowerhouse.group/wp-content/uploads/2024/03/Inventory-Office-Hours-For-Website.jpg
END:VEVENT
BEGIN:VEVENT
DTSTART;TZID=America/Chicago:20251119T120000
DTEND;TZID=America/Chicago:20251119T130000
DTSTAMP:20260419T151955
CREATED:20250924T140834Z
LAST-MODIFIED:20251105T153517Z
UID:10000679-1763553600-1763557200@mypowerhouse.group
SUMMARY:Webinar: Smart\, Not Shiny: Building a Tech Stack with Purpose
DESCRIPTION:Free Webinar: Smart\, Not Shiny: Building a Tech Stack with Purpose\nWednesday\, November 19 | 12pm CT \nIn today’s trades industry\, contractors are bombarded with opinions\, “must-have” apps\, and shiny new tools promising to fix every problem. \nBut more isn’t always better—and following the crowd often leads to wasted spend\, operational drag\, and unnecessary complexity. In this session\, Leila Rookstool of Powerhouse Consulting Group will show you how to take a smarter approach to technology inspired by our Contractor Resource Planning (CRP) framework. \nYou’ll learn how to evaluate integrations and automations with a critical lens\, align your tech decisions with your team’s actual capabilities and goals\, and avoid the trap of buying tools that don’t deliver ROI. We’ll also cover how to build confidence in your systems\, coach your team through the noise of outside chatter\, and use data—not hype—to guide your growth. \nThis session is designed for business leaders who are ready to stop reacting to industry buzz and start building a tech stack that truly supports long-term success. \n👉 Register today! https://mypowerhouse-group.zoom.us/webinar/register/WN_hFRspSzyTmKSYxhmTfKZMg
URL:https://mypowerhouse.group/event/webinar-smart-not-shiny-building-a-tech-stack-with-purpose/
CATEGORIES:Virtual
ATTACH;FMTTYPE=image/png:https://mypowerhouse.group/wp-content/uploads/2025/09/Building-a-Tech-Stack-with-Purpose-14.png
END:VEVENT
BEGIN:VEVENT
DTSTART;TZID=America/Chicago:20251120T130000
DTEND;TZID=America/Chicago:20251120T140000
DTSTAMP:20260419T151955
CREATED:20250307T194400Z
LAST-MODIFIED:20251021T142912Z
UID:10000687-1763643600-1763647200@mypowerhouse.group
SUMMARY:ServiceTitan Marketing Office Hours
DESCRIPTION:Need help with ServiceTitan Marketing modules – core or Marketing Pro? Connect with an Marketing Specialist from Powerhouse Consulting Group at no cost during our Marketing Office Hours. \n\nProven expertise in implementing marketing solutions for numerous clients.\nCertified Marketing specialists through the prestigious ServiceTitan Certified Provider program.\nSmall group and live interaction\, to answer YOUR specific questions.\n\nJoin now: REGISTER
URL:https://mypowerhouse.group/event/servicetitan-marketing-office-hours-2025/2025-11-20/
CATEGORIES:Virtual
ATTACH;FMTTYPE=image/png:https://mypowerhouse.group/wp-content/uploads/2025/03/Marketing-Office-Hours-v1-1.png
END:VEVENT
END:VCALENDAR