BEGIN:VCALENDAR
VERSION:2.0
PRODID:-//Powerhouse Consulting Group - ECPv6.15.20//NONSGML v1.0//EN
CALSCALE:GREGORIAN
METHOD:PUBLISH
X-WR-CALNAME:Powerhouse Consulting Group
X-ORIGINAL-URL:https://mypowerhouse.group
X-WR-CALDESC:Events for Powerhouse Consulting Group
REFRESH-INTERVAL;VALUE=DURATION:PT1H
X-Robots-Tag:noindex
X-PUBLISHED-TTL:PT1H
BEGIN:VTIMEZONE
TZID:America/Chicago
BEGIN:DAYLIGHT
TZOFFSETFROM:-0600
TZOFFSETTO:-0500
TZNAME:CDT
DTSTART:20230312T080000
END:DAYLIGHT
BEGIN:STANDARD
TZOFFSETFROM:-0500
TZOFFSETTO:-0600
TZNAME:CST
DTSTART:20231105T070000
END:STANDARD
BEGIN:DAYLIGHT
TZOFFSETFROM:-0600
TZOFFSETTO:-0500
TZNAME:CDT
DTSTART:20240310T080000
END:DAYLIGHT
BEGIN:STANDARD
TZOFFSETFROM:-0500
TZOFFSETTO:-0600
TZNAME:CST
DTSTART:20241103T070000
END:STANDARD
BEGIN:DAYLIGHT
TZOFFSETFROM:-0600
TZOFFSETTO:-0500
TZNAME:CDT
DTSTART:20250309T080000
END:DAYLIGHT
BEGIN:STANDARD
TZOFFSETFROM:-0500
TZOFFSETTO:-0600
TZNAME:CST
DTSTART:20251102T070000
END:STANDARD
END:VTIMEZONE
BEGIN:VEVENT
DTSTART;TZID=America/Chicago:20240423T120000
DTEND;TZID=America/Chicago:20240423T133000
DTSTAMP:20260424T150023
CREATED:20240321T145636Z
LAST-MODIFIED:20250507T152214Z
UID:10000533-1713873600-1713879000@mypowerhouse.group
SUMMARY:Virtual Learning Lab: Managing Memberships in ServiceTitan
DESCRIPTION:Join our upcoming Hands-on Training Lab\, where we are talking all things ServiceTitan MEMBERSHIPS! \nManaging memberships in ServiceTitan is a crucial skill for office staff. Done correctly\, memberships will boost your customer base\, drive revenue\, and create a steady technician schedule even during slow seasons. \nWhat if you could tap into a seasoned ServiceTitan professional to teach your team everything they need to know about managing ServiceTitan memberships? Sign your team up for our webinar on Tuesday\, April 23 where we’ll be sharing our top tips on navigating memberships in ServiceTitan. \nTopics will include: \n\nMembership Management Strategies: Learn effective techniques to manage memberships and enhance customer retention.\nTools: Explore the latest tools that can streamline membership processes and improve customer experiences.\nCSR Incentives: Discover creative ways to motivate customer service representatives and drive member engagement.\nRecurring Services: Implementing successful recurring service models for a consistent flow of revenue.\nLoyalty Programs: Establishing loyalty programs to reward and retain your valued customers.\n\nDon’t miss out on this opportunity to maximize your operational efficiency. Register now to reserve your spot! \n🖥️ This is a Virtual Event. A Zoom Link will be provided to attendees 24 hours prior to the event.  \n  \n🚨Pre-requisites for this lab: \n\nThis training lab is best suited for companies that already have memberships live in their account.\n\nRecommended pre-work for this lab: \n\nWhat questions do you have about memberships? Make a list and bring it to our webinar!\n\nIf you have questions about the pre-requisites or pre-work\, email us at training@mypowerhouse.group! \n  \n\nWhat is a Hands-On Learning Lab?\nAre you the type of person that learns by doing? If so\, you’re not alone! When it comes to ServiceTitan training\, we know from experience that workflows start to stick when you are practicing and implementing yourself. That’s why we created hands-on learning labs\, an interactive training sessions designed to help you optimize your ServiceTitan account with real-time guidance from our expert consultant and lead trainer\, Rosario Garcia. \nDuring our learning lab\, you’ll be implementing a specific feature or workflow LIVE inside your ServiceTitan account. By the end of the session\, you’ll have the feature set up and ready to use! \nHere’s a glimpse of what to expect: \n✨ Hands-On Experience: Dive into 90 minutes of practical implementation\, where you’ll work side-by-side with Rosario to optimize features directly within your ServiceTitan account. \n👥 Intimate Group Setting: Our small-group format ensures personalized interaction and dedicated attention to your specific questions\, making your learning experience truly tailored to your needs. \n🌟 Expert Guidance: Learn from the best! Rosario\, a seasoned ServiceTitan power user with extensive experience across various companies\, will be your guide throughout the session. \n📝 Comprehensive Worksheets: Take home a step-by-step worksheet to ensure you retain and apply what you’ve learned long after the lab is over. \n🏆 Finish Strong: Leave the lab with a sense of accomplishment\, having successfully implemented the new feature in your ServiceTitan account. \n  \nWhat Previous Learning Lab Attendees Had to Say:\n\n100% of attendees were satisfied with their experience.\n100% of attendees said their expectations were met.\n100% of attendees would recommend a Learning Lab to others.\n\nThe small group format was so nice! Thank you! \n 
URL:https://mypowerhouse.group/event/virtual-learning-lab-managing-memberships-in-servicetitan/
CATEGORIES:Virtual
ATTACH;FMTTYPE=image/png:https://mypowerhouse.group/wp-content/uploads/2024/03/Training-Labs-Social-Posts-169-Aspect-Ratio.png
END:VEVENT
END:VCALENDAR