BEGIN:VCALENDAR
VERSION:2.0
PRODID:-//Powerhouse Consulting Group - ECPv6.15.20//NONSGML v1.0//EN
CALSCALE:GREGORIAN
METHOD:PUBLISH
X-ORIGINAL-URL:https://mypowerhouse.group
X-WR-CALDESC:Events for Powerhouse Consulting Group
REFRESH-INTERVAL;VALUE=DURATION:PT1H
X-Robots-Tag:noindex
X-PUBLISHED-TTL:PT1H
BEGIN:VTIMEZONE
TZID:America/Chicago
BEGIN:DAYLIGHT
TZOFFSETFROM:-0600
TZOFFSETTO:-0500
TZNAME:CDT
DTSTART:20250309T080000
END:DAYLIGHT
BEGIN:STANDARD
TZOFFSETFROM:-0500
TZOFFSETTO:-0600
TZNAME:CST
DTSTART:20251102T070000
END:STANDARD
BEGIN:DAYLIGHT
TZOFFSETFROM:-0600
TZOFFSETTO:-0500
TZNAME:CDT
DTSTART:20260308T080000
END:DAYLIGHT
BEGIN:STANDARD
TZOFFSETFROM:-0500
TZOFFSETTO:-0600
TZNAME:CST
DTSTART:20261101T070000
END:STANDARD
BEGIN:DAYLIGHT
TZOFFSETFROM:-0600
TZOFFSETTO:-0500
TZNAME:CDT
DTSTART:20270314T080000
END:DAYLIGHT
BEGIN:STANDARD
TZOFFSETFROM:-0500
TZOFFSETTO:-0600
TZNAME:CST
DTSTART:20271107T070000
END:STANDARD
END:VTIMEZONE
BEGIN:VEVENT
DTSTART;TZID=America/Chicago:20260430T120000
DTEND;TZID=America/Chicago:20260430T130000
DTSTAMP:20260422T181129
CREATED:20260406T214410Z
LAST-MODIFIED:20260406T215042Z
UID:10000699-1777550400-1777554000@mypowerhouse.group
SUMMARY:Free Webinar: Before You Invest in AI: The 3 Shifts Top Service Businesses Are Making
DESCRIPTION:Everyone’s talking about AI in home services. But AI is only as good as what’s underneath it\, and most service businesses aren’t set up to benefit from it yet. \nIf your tools are underused\, your processes are undefined\, and your data is messy\, AI isn’t going to fix that. It’s going to amplify it. \nIn this webinar\, experts from Powerhouse Consulting Group\, ServiceTitan\, and Hatch break down the three mindsets the most profitable service operations are shifting right now to make sure their AI investment actually drives returns—and what it looks like in practice. \nYou’ll learn: \n\nHow to maximize your software ROI by getting more from the tools you already have\nHow the fastest-growing operations are building capacity without growing cost\nWhat it takes to turn your data into something AI can actually use to drive decisions\n\nWith live Q&A and a takeaway guide you can put to work immediately. \nYou’ll walk away with a clearer picture of how to make AI drive revenue\, not just add complexity. Register now! \n 
URL:https://mypowerhouse.group/event/free-webinar-before-you-invest-in-ai-the-3-shifts-top-service-businesses-are-making/
CATEGORIES:Virtual
ATTACH;FMTTYPE=image/png:https://mypowerhouse.group/wp-content/uploads/2026/04/Website-Header-Size-1600x900-38.png
END:VEVENT
END:VCALENDAR