BEGIN:VCALENDAR
VERSION:2.0
PRODID:-//Powerhouse Consulting Group - ECPv6.15.20//NONSGML v1.0//EN
CALSCALE:GREGORIAN
METHOD:PUBLISH
X-WR-CALNAME:Powerhouse Consulting Group
X-ORIGINAL-URL:https://mypowerhouse.group
X-WR-CALDESC:Events for Powerhouse Consulting Group
REFRESH-INTERVAL;VALUE=DURATION:PT1H
X-Robots-Tag:noindex
X-PUBLISHED-TTL:PT1H
BEGIN:VTIMEZONE
TZID:America/Chicago
BEGIN:DAYLIGHT
TZOFFSETFROM:-0600
TZOFFSETTO:-0500
TZNAME:CDT
DTSTART:20250309T080000
END:DAYLIGHT
BEGIN:STANDARD
TZOFFSETFROM:-0500
TZOFFSETTO:-0600
TZNAME:CST
DTSTART:20251102T070000
END:STANDARD
BEGIN:DAYLIGHT
TZOFFSETFROM:-0600
TZOFFSETTO:-0500
TZNAME:CDT
DTSTART:20260308T080000
END:DAYLIGHT
BEGIN:STANDARD
TZOFFSETFROM:-0500
TZOFFSETTO:-0600
TZNAME:CST
DTSTART:20261101T070000
END:STANDARD
BEGIN:DAYLIGHT
TZOFFSETFROM:-0600
TZOFFSETTO:-0500
TZNAME:CDT
DTSTART:20270314T080000
END:DAYLIGHT
BEGIN:STANDARD
TZOFFSETFROM:-0500
TZOFFSETTO:-0600
TZNAME:CST
DTSTART:20271107T070000
END:STANDARD
END:VTIMEZONE
BEGIN:VEVENT
DTSTART;TZID=America/Chicago:20260424T130000
DTEND;TZID=America/Chicago:20260424T140000
DTSTAMP:20260422T213820
CREATED:20260422T212451Z
LAST-MODIFIED:20260422T212451Z
UID:10000702-1777035600-1777039200@mypowerhouse.group
SUMMARY:FREE WEBINAR: The Customer Journey that Actually Drives Revenue
DESCRIPTION:Lemon Seed Marketing is hosting a live webinar this Friday\, “The Customer Journey That Actually Drives Revenue\,” to share insights around lead conversion\, customer experience\, and driving long-term revenue. This will be a live conversation featuring a power-packed lineup of participants\, such as PCG’s Pam Duffy\, ServiceTitan’s Angie Snow\, Lemon Seed’s Crystal Williams\, and more! \nWe’ll highlight real strategies\, tools\, and ideas that are helping businesses strengthen every stage of the customer journey—and give you a taste of the value you’ll gain by attending “From First Hello to Forever Customer\,” and in-person event in Argyle\, TX\, May 4-5. Learn more about the event HERE! \nRegister for Friday’s webinar HERE
URL:https://mypowerhouse.group/event/free-webinar-the-customer-journey-that-actually-drives-revenue/
CATEGORIES:Virtual
ATTACH;FMTTYPE=image/png:https://mypowerhouse.group/wp-content/uploads/2026/04/Website-Header-Size-1600x900-39-1.png
END:VEVENT
END:VCALENDAR